BEGIN:VCALENDAR
VERSION:2.0
PRODID:-//Gator Run Pta - ECPv6.15.15//NONSGML v1.0//EN
CALSCALE:GREGORIAN
METHOD:PUBLISH
X-WR-CALNAME:Gator Run Pta
X-ORIGINAL-URL:https://gatorrunpta.com
X-WR-CALDESC:Events for Gator Run Pta
REFRESH-INTERVAL;VALUE=DURATION:PT1H
X-Robots-Tag:noindex
X-PUBLISHED-TTL:PT1H
BEGIN:VTIMEZONE
TZID:America/New_York
BEGIN:DAYLIGHT
TZOFFSETFROM:-0500
TZOFFSETTO:-0400
TZNAME:EDT
DTSTART:20190310T070000
END:DAYLIGHT
BEGIN:STANDARD
TZOFFSETFROM:-0400
TZOFFSETTO:-0500
TZNAME:EST
DTSTART:20191103T060000
END:STANDARD
BEGIN:DAYLIGHT
TZOFFSETFROM:-0500
TZOFFSETTO:-0400
TZNAME:EDT
DTSTART:20200308T070000
END:DAYLIGHT
BEGIN:STANDARD
TZOFFSETFROM:-0400
TZOFFSETTO:-0500
TZNAME:EST
DTSTART:20201101T060000
END:STANDARD
BEGIN:DAYLIGHT
TZOFFSETFROM:-0500
TZOFFSETTO:-0400
TZNAME:EDT
DTSTART:20210314T070000
END:DAYLIGHT
BEGIN:STANDARD
TZOFFSETFROM:-0400
TZOFFSETTO:-0500
TZNAME:EST
DTSTART:20211107T060000
END:STANDARD
BEGIN:DAYLIGHT
TZOFFSETFROM:-0500
TZOFFSETTO:-0400
TZNAME:EDT
DTSTART:20220313T070000
END:DAYLIGHT
BEGIN:STANDARD
TZOFFSETFROM:-0400
TZOFFSETTO:-0500
TZNAME:EST
DTSTART:20221106T060000
END:STANDARD
END:VTIMEZONE
BEGIN:VEVENT
DTSTART;VALUE=DATE:20201130
DTEND;VALUE=DATE:20201210
DTSTAMP:20260422T130052
CREATED:20201130T143909Z
LAST-MODIFIED:20201130T143909Z
UID:21929-1606694400-1607558399@gatorrunpta.com
SUMMARY:GRE HOLIDAY WISHES TOY DRIVE
DESCRIPTION:This year for our toy drive we are partnering up with Voices for Children of Broward County\, an organization that works to ensure that every abused\, neglected\, and abandoned child in Broward County has a court- appointed Guardian ad Litem and that financial resources are available for each child’s accompanying health\, educational\, and social needs. Please see the flyer below to see how you can help make these children’s holidays magical!
URL:https://gatorrunpta.com/event/gre-holiday-wishes-toy-drive/
END:VEVENT
BEGIN:VEVENT
DTSTART;VALUE=DATE:20201204
DTEND;VALUE=DATE:20201205
DTSTAMP:20260422T130052
CREATED:20201003T011929Z
LAST-MODIFIED:20201003T011929Z
UID:21848-1607040000-1607126399@gatorrunpta.com
SUMMARY:GRE SPIRIT DAY
DESCRIPTION:Wear your Gator Run spirit shirt\, snap a picture and share it!!
URL:https://gatorrunpta.com/event/gre-spirit-day-3/
END:VEVENT
BEGIN:VEVENT
DTSTART;TZID=America/New_York:20201209T180000
DTEND;TZID=America/New_York:20201209T200000
DTSTAMP:20260422T130052
CREATED:20201119T223547Z
LAST-MODIFIED:20201130T142919Z
UID:21923-1607536800-1607544000@gatorrunpta.com
SUMMARY:WINTER WAVE PARADE
DESCRIPTION:
URL:https://gatorrunpta.com/event/winter-wave-parade/
END:VEVENT
BEGIN:VEVENT
DTSTART;VALUE=DATE:20201221
DTEND;VALUE=DATE:20210102
DTSTAMP:20260422T130052
CREATED:20200930T000710Z
LAST-MODIFIED:20200930T000710Z
UID:21821-1608508800-1609545599@gatorrunpta.com
SUMMARY:NO SCHOOL
DESCRIPTION:Winter Break
URL:https://gatorrunpta.com/event/no-school-4/
END:VEVENT
END:VCALENDAR