BEGIN:VCALENDAR
VERSION:2.0
PRODID:-//Gator Run Pta - ECPv6.15.15//NONSGML v1.0//EN
CALSCALE:GREGORIAN
METHOD:PUBLISH
X-WR-CALNAME:Gator Run Pta
X-ORIGINAL-URL:https://gatorrunpta.com
X-WR-CALDESC:Events for Gator Run Pta
REFRESH-INTERVAL;VALUE=DURATION:PT1H
X-Robots-Tag:noindex
X-PUBLISHED-TTL:PT1H
BEGIN:VTIMEZONE
TZID:America/New_York
BEGIN:DAYLIGHT
TZOFFSETFROM:-0500
TZOFFSETTO:-0400
TZNAME:EDT
DTSTART:20190310T070000
END:DAYLIGHT
BEGIN:STANDARD
TZOFFSETFROM:-0400
TZOFFSETTO:-0500
TZNAME:EST
DTSTART:20191103T060000
END:STANDARD
BEGIN:DAYLIGHT
TZOFFSETFROM:-0500
TZOFFSETTO:-0400
TZNAME:EDT
DTSTART:20200308T070000
END:DAYLIGHT
BEGIN:STANDARD
TZOFFSETFROM:-0400
TZOFFSETTO:-0500
TZNAME:EST
DTSTART:20201101T060000
END:STANDARD
BEGIN:DAYLIGHT
TZOFFSETFROM:-0500
TZOFFSETTO:-0400
TZNAME:EDT
DTSTART:20210314T070000
END:DAYLIGHT
BEGIN:STANDARD
TZOFFSETFROM:-0400
TZOFFSETTO:-0500
TZNAME:EST
DTSTART:20211107T060000
END:STANDARD
END:VTIMEZONE
BEGIN:VEVENT
DTSTART;TZID=America/New_York:20201001T150000
DTEND;TZID=America/New_York:20201001T160000
DTSTAMP:20260419T001914
CREATED:20200929T153018Z
LAST-MODIFIED:20200929T153018Z
UID:21815-1601564400-1601568000@gatorrunpta.com
SUMMARY:SPIRIT GEAR ORDER DISTRIBUTION
DESCRIPTION:GRE PTA will be having a drive-by pickup distribution Thursday 10/1 and Friday 10/2 from 3:00pm-4:00pm in the BACK CAR LOOP.
URL:https://gatorrunpta.com/event/spirit-gear-order-distribution/
END:VEVENT
BEGIN:VEVENT
DTSTART;TZID=America/New_York:20201002T150000
DTEND;TZID=America/New_York:20201002T160000
DTSTAMP:20260419T001914
CREATED:20200929T153140Z
LAST-MODIFIED:20200929T153140Z
UID:21816-1601650800-1601654400@gatorrunpta.com
SUMMARY:SPIRIT GEAR ORDER DISTRIBUTION
DESCRIPTION:GRE PTA will be having a drive-by pickup distribution Thursday 10/1 and Friday 10/2 from 3:00pm-4:00pm in the BACK CAR LOOP.
URL:https://gatorrunpta.com/event/spirit-gear-order-distribution-2/
END:VEVENT
BEGIN:VEVENT
DTSTART;TZID=America/New_York:20201007T150000
DTEND;TZID=America/New_York:20201007T160000
DTSTAMP:20260419T001914
CREATED:20201005T134553Z
LAST-MODIFIED:20201005T134553Z
UID:21855-1602082800-1602086400@gatorrunpta.com
SUMMARY:SPIRIT GEAR ORDER DISTRIBUTION
DESCRIPTION:GRE PTA will be having a drive-by pickup distribution Wednesday 10/7 from 3:00pm-4:00pm in the BACK CAR LOOP.
URL:https://gatorrunpta.com/event/spirit-gear-order-distribution-3/
END:VEVENT
BEGIN:VEVENT
DTSTART;VALUE=DATE:20201008
DTEND;VALUE=DATE:20201009
DTSTAMP:20260419T001914
CREATED:20201003T004403Z
LAST-MODIFIED:20201003T004403Z
UID:21836-1602115200-1602201599@gatorrunpta.com
SUMMARY:NO SCHOOL - TEACHER PLANNING DAY
DESCRIPTION:
URL:https://gatorrunpta.com/event/no-school-teacher-planning-day-3/
END:VEVENT
BEGIN:VEVENT
DTSTART;VALUE=DATE:20201009
DTEND;VALUE=DATE:20201010
DTSTAMP:20260419T001914
CREATED:20200929T144758Z
LAST-MODIFIED:20200929T144758Z
UID:21814-1602201600-1602287999@gatorrunpta.com
SUMMARY:GRE SPIRIT DAY
DESCRIPTION:Wear your Gator Run spirit shirt\, snap a picture and share it!!
URL:https://gatorrunpta.com/event/gre-spirit-day/
END:VEVENT
BEGIN:VEVENT
DTSTART;TZID=America/New_York:20201009T080000
DTEND;TZID=America/New_York:20201009T140000
DTSTAMP:20260419T001914
CREATED:20201003T005045Z
LAST-MODIFIED:20201003T013233Z
UID:21837-1602230400-1602252000@gatorrunpta.com
SUMMARY:BEGIN E-LEARNING: PHASE 2 (PRE-K - 2ND GRADE)
DESCRIPTION:Option of attendance in school classrooms: Pre-K to second grades.
URL:https://gatorrunpta.com/event/begin-elearning-phase-2-pre-k-2nd-grade/
END:VEVENT
BEGIN:VEVENT
DTSTART;VALUE=DATE:20201012
DTEND;VALUE=DATE:20201013
DTSTAMP:20260419T001914
CREATED:20200929T200731Z
LAST-MODIFIED:20200929T200731Z
UID:21818-1602460800-1602547199@gatorrunpta.com
SUMMARY:EARLY RELEASE DAY
DESCRIPTION:
URL:https://gatorrunpta.com/event/early-release-day-3/
END:VEVENT
BEGIN:VEVENT
DTSTART;TZID=America/New_York:20201013T080000
DTEND;TZID=America/New_York:20201013T140000
DTSTAMP:20260419T001914
CREATED:20201003T005654Z
LAST-MODIFIED:20201003T013315Z
UID:21839-1602576000-1602597600@gatorrunpta.com
SUMMARY:BEGIN E-LEARNING: PHASE 2 (3RD - 5TH GRADE)
DESCRIPTION:Option of attendance in school classrooms: Pre-K to fifth grades.
URL:https://gatorrunpta.com/event/begin-elearning-phase-2-3rd-5th-grade/
END:VEVENT
BEGIN:VEVENT
DTSTART;VALUE=DATE:20201014
DTEND;VALUE=DATE:20201015
DTSTAMP:20260419T001914
CREATED:20201003T005959Z
LAST-MODIFIED:20201003T005959Z
UID:21840-1602633600-1602719999@gatorrunpta.com
SUMMARY:EARLY RELEASE DAY
DESCRIPTION:
URL:https://gatorrunpta.com/event/early-release-day-2/
END:VEVENT
BEGIN:VEVENT
DTSTART;TZID=America/New_York:20201016T120000
DTEND;TZID=America/New_York:20201016T120000
DTSTAMP:20260419T001914
CREATED:20200810T204427Z
LAST-MODIFIED:20200810T204427Z
UID:21757-1602849600-1602849600@gatorrunpta.com
SUMMARY:Early Release Day
DESCRIPTION:
URL:https://gatorrunpta.com/event/early-release-day/
END:VEVENT
BEGIN:VEVENT
DTSTART;VALUE=DATE:20201019
DTEND;VALUE=DATE:20201020
DTSTAMP:20260419T001914
CREATED:20200810T204548Z
LAST-MODIFIED:20200810T204548Z
UID:21758-1603065600-1603151999@gatorrunpta.com
SUMMARY:No School- Teacher Planning Day
DESCRIPTION:
URL:https://gatorrunpta.com/event/no-school-teacher-planning-day/
END:VEVENT
BEGIN:VEVENT
DTSTART;TZID=America/New_York:20201021T143000
DTEND;TZID=America/New_York:20201021T150000
DTSTAMP:20260419T001914
CREATED:20201003T010753Z
LAST-MODIFIED:20201003T010753Z
UID:21841-1603290600-1603292400@gatorrunpta.com
SUMMARY:SAC MEETING
DESCRIPTION:All meetings will take place via TEAMS.
URL:https://gatorrunpta.com/event/sac-meeting/
END:VEVENT
BEGIN:VEVENT
DTSTART;TZID=America/New_York:20201026T170000
DTEND;TZID=America/New_York:20201026T180000
DTSTAMP:20260419T001914
CREATED:20201022T203658Z
LAST-MODIFIED:20201022T203658Z
UID:21896-1603731600-1603735200@gatorrunpta.com
SUMMARY:SPIRIT GEAR ORDER DISTRIBUTION
DESCRIPTION:GRE PTA will be having a drive-by pickup distribution Monday 10/26 from 5:00pm-6:00pm in the FRONT CARPOOL PARKING LOT.
URL:https://gatorrunpta.com/event/spirit-gear-order-distribution-4/
END:VEVENT
BEGIN:VEVENT
DTSTART;TZID=America/New_York:20201028T170000
DTEND;TZID=America/New_York:20201028T180000
DTSTAMP:20260419T001914
CREATED:20201022T204448Z
LAST-MODIFIED:20201022T204448Z
UID:21897-1603904400-1603908000@gatorrunpta.com
SUMMARY:SPIRIT GEAR ORDER DISTRIBUTION
DESCRIPTION:GRE PTA will be having a drive-by pickup distribution Wednesday 10/28 from 5:00pm-6:00pm in the FRONT CARPOOL PARKING LOT.
URL:https://gatorrunpta.com/event/spirit-gear-order-distribution-5/
END:VEVENT
BEGIN:VEVENT
DTSTART;TZID=America/New_York:20201030T170000
DTEND;TZID=America/New_York:20201030T180000
DTSTAMP:20260419T001914
CREATED:20201022T204726Z
LAST-MODIFIED:20201022T204726Z
UID:21898-1604077200-1604080800@gatorrunpta.com
SUMMARY:SPIRIT GEAR ORDER DISTRIBUTION
DESCRIPTION:GRE PTA will be having a drive-by pickup distribution Friday 10/30 from 5:00pm-6:00pm in the FRONT CARPOOL PARKING LOT.
URL:https://gatorrunpta.com/event/spirit-gear-order-distribution-6/
END:VEVENT
BEGIN:VEVENT
DTSTART;TZID=America/New_York:20201031T100000
DTEND;TZID=America/New_York:20201031T110000
DTSTAMP:20260419T001914
CREATED:20201022T205100Z
LAST-MODIFIED:20201022T205100Z
UID:21899-1604138400-1604142000@gatorrunpta.com
SUMMARY:SPIRIT GEAR ORDER DISTRIBUTION
DESCRIPTION:GRE PTA will be having a drive-by pickup distribution Saturday 10/31 from 10:00am-11:00am in the FRONT CARPOOL PARKING LOT.
URL:https://gatorrunpta.com/event/spirit-gear-order-distribution-7/
END:VEVENT
END:VCALENDAR