BEGIN:VCALENDAR
VERSION:2.0
PRODID:-//Gator Run Pta - ECPv6.15.15//NONSGML v1.0//EN
CALSCALE:GREGORIAN
METHOD:PUBLISH
X-ORIGINAL-URL:https://gatorrunpta.com
X-WR-CALDESC:Events for Gator Run Pta
REFRESH-INTERVAL;VALUE=DURATION:PT1H
X-Robots-Tag:noindex
X-PUBLISHED-TTL:PT1H
BEGIN:VTIMEZONE
TZID:America/New_York
BEGIN:DAYLIGHT
TZOFFSETFROM:-0500
TZOFFSETTO:-0400
TZNAME:EDT
DTSTART:20190310T070000
END:DAYLIGHT
BEGIN:STANDARD
TZOFFSETFROM:-0400
TZOFFSETTO:-0500
TZNAME:EST
DTSTART:20191103T060000
END:STANDARD
BEGIN:DAYLIGHT
TZOFFSETFROM:-0500
TZOFFSETTO:-0400
TZNAME:EDT
DTSTART:20200308T070000
END:DAYLIGHT
BEGIN:STANDARD
TZOFFSETFROM:-0400
TZOFFSETTO:-0500
TZNAME:EST
DTSTART:20201101T060000
END:STANDARD
BEGIN:DAYLIGHT
TZOFFSETFROM:-0500
TZOFFSETTO:-0400
TZNAME:EDT
DTSTART:20210314T070000
END:DAYLIGHT
BEGIN:STANDARD
TZOFFSETFROM:-0400
TZOFFSETTO:-0500
TZNAME:EST
DTSTART:20211107T060000
END:STANDARD
END:VTIMEZONE
BEGIN:VEVENT
DTSTART;VALUE=DATE:20200907
DTEND;VALUE=DATE:20200908
DTSTAMP:20260422T172440
CREATED:20200810T204325Z
LAST-MODIFIED:20200810T204325Z
UID:21755-1599436800-1599523199@gatorrunpta.com
SUMMARY:No School- Labor Day
DESCRIPTION:
URL:https://gatorrunpta.com/event/no-school-labor-day/
END:VEVENT
BEGIN:VEVENT
DTSTART;VALUE=DATE:20200908
DTEND;VALUE=DATE:20200922
DTSTAMP:20260422T172440
CREATED:20200810T205054Z
LAST-MODIFIED:20200810T205054Z
UID:21761-1599523200-1600732799@gatorrunpta.com
SUMMARY:Virtual Scholastic Book Fair
DESCRIPTION:The Fall Book Fair is going Virtual!  Buy online and have the books delivered to your door! \nwww.scholastic.com/bf/gatorrunelementaryschool \n 
URL:https://gatorrunpta.com/event/virtual-scholastic-book-fair/
END:VEVENT
BEGIN:VEVENT
DTSTART;TZID=America/New_York:20200923T143000
DTEND;TZID=America/New_York:20200923T150000
DTSTAMP:20260422T172440
CREATED:20200917T140646Z
LAST-MODIFIED:20200917T140646Z
UID:21805-1600871400-1600873200@gatorrunpta.com
SUMMARY:SAC / SAF Meeting
DESCRIPTION:Our second school advisory council (SAC) and school advisory forum (SAF) meeting will be held next Wednesday September 23rd at 2:30 via TEAMS. To join the meeting please click on the link below. \nJoin Microsoft Teams Meeting \n+1 754-216-1864   United States\, Fort Lauderdale (Toll) \nConference ID: 216 115 159# \nLocal numbers | Reset PIN | Learn more about Teams | Meeting options \n  \nIf you attended our first meeting\, please be sure to attend this meeting as well since we need to collect membership data. \n  \nWe will be discussing school programs and any important district updates. \n  \nThank you \n  \nWe hope to see you there! \n  \nJacqueline C. Grasinger\, Ed.S
URL:https://gatorrunpta.com/event/sac-saf-meeting-2/
END:VEVENT
BEGIN:VEVENT
DTSTART;VALUE=DATE:20200928
DTEND;VALUE=DATE:20200929
DTSTAMP:20260422T172440
CREATED:20200810T204351Z
LAST-MODIFIED:20200810T204351Z
UID:21756-1601251200-1601337599@gatorrunpta.com
SUMMARY:No School
DESCRIPTION:
URL:https://gatorrunpta.com/event/no-school/
END:VEVENT
END:VCALENDAR