BEGIN:VCALENDAR
VERSION:2.0
PRODID:-//Gator Run Pta - ECPv6.15.15//NONSGML v1.0//EN
CALSCALE:GREGORIAN
METHOD:PUBLISH
X-WR-CALNAME:Gator Run Pta
X-ORIGINAL-URL:https://gatorrunpta.com
X-WR-CALDESC:Events for Gator Run Pta
REFRESH-INTERVAL;VALUE=DURATION:PT1H
X-Robots-Tag:noindex
X-PUBLISHED-TTL:PT1H
BEGIN:VTIMEZONE
TZID:America/New_York
BEGIN:DAYLIGHT
TZOFFSETFROM:-0500
TZOFFSETTO:-0400
TZNAME:EDT
DTSTART:20190310T070000
END:DAYLIGHT
BEGIN:STANDARD
TZOFFSETFROM:-0400
TZOFFSETTO:-0500
TZNAME:EST
DTSTART:20191103T060000
END:STANDARD
BEGIN:DAYLIGHT
TZOFFSETFROM:-0500
TZOFFSETTO:-0400
TZNAME:EDT
DTSTART:20200308T070000
END:DAYLIGHT
BEGIN:STANDARD
TZOFFSETFROM:-0400
TZOFFSETTO:-0500
TZNAME:EST
DTSTART:20201101T060000
END:STANDARD
BEGIN:DAYLIGHT
TZOFFSETFROM:-0500
TZOFFSETTO:-0400
TZNAME:EDT
DTSTART:20210314T070000
END:DAYLIGHT
BEGIN:STANDARD
TZOFFSETFROM:-0400
TZOFFSETTO:-0500
TZNAME:EST
DTSTART:20211107T060000
END:STANDARD
END:VTIMEZONE
BEGIN:VEVENT
DTSTART;TZID=America/New_York:20200814T080000
DTEND;TZID=America/New_York:20200814T130000
DTSTAMP:20260422T184229
CREATED:20200810T203603Z
LAST-MODIFIED:20200810T203603Z
UID:21752-1597392000-1597410000@gatorrunpta.com
SUMMARY:Virtual Open House
DESCRIPTION:
URL:https://gatorrunpta.com/event/virtual-open-house/
END:VEVENT
BEGIN:VEVENT
DTSTART;TZID=America/New_York:20200817T080000
DTEND;TZID=America/New_York:20200817T153000
DTSTAMP:20260422T184229
CREATED:20200810T203731Z
LAST-MODIFIED:20200810T203753Z
UID:21753-1597651200-1597678200@gatorrunpta.com
SUMMARY:Student Material & Device Pickup
DESCRIPTION:
URL:https://gatorrunpta.com/event/student-material-device-pickup/
END:VEVENT
BEGIN:VEVENT
DTSTART;VALUE=DATE:20200819
DTEND;VALUE=DATE:20200820
DTSTAMP:20260422T184229
CREATED:20200810T203820Z
LAST-MODIFIED:20200810T205311Z
UID:21754-1597795200-1597881599@gatorrunpta.com
SUMMARY:First Day of School: E-learning
DESCRIPTION:
URL:https://gatorrunpta.com/event/first-day-of-school/
END:VEVENT
BEGIN:VEVENT
DTSTART;TZID=America/New_York:20200826T143000
DTEND;TZID=America/New_York:20200826T150000
DTSTAMP:20260422T184229
CREATED:20200818T181855Z
LAST-MODIFIED:20200820T194350Z
UID:21779-1598452200-1598454000@gatorrunpta.com
SUMMARY:SAC / SAF meeting
DESCRIPTION:School Advisory Council/School Advisory Forum \nPlease join us as we vote in new members and discuss social emotional learning/mindfulness\, the school wide positive behavior plan and other updates. \n  \nHere is the link to the meeting-Join Microsoft Teams Meeting
URL:https://gatorrunpta.com/event/sac-saf-meeting/
END:VEVENT
BEGIN:VEVENT
DTSTART;TZID=America/New_York:20200826T200000
DTEND;TZID=America/New_York:20200826T203000
DTSTAMP:20260422T184229
CREATED:20200823T212602Z
LAST-MODIFIED:20200824T181107Z
UID:21782-1598472000-1598473800@gatorrunpta.com
SUMMARY:PTA General Meeting- ZOOM
DESCRIPTION:Join us for the first PTA General Meeting of the 2020-2021 school year.  We will be approving this year’s budget and updating our bylaws before renewal.  Anyone is welcome to attend but only paid PTA members may participate in the votes.  Join before the meeting if you’d like to participate in the votes at gatorrunpta.com/shop \nZoom Meeting ID: 822 598 5963 \nPassword: 33327
URL:https://gatorrunpta.com/event/pta-general-meeting-zoom/
END:VEVENT
END:VCALENDAR