BEGIN:VCALENDAR
VERSION:2.0
PRODID:-//Gator Run Pta - ECPv6.15.15//NONSGML v1.0//EN
CALSCALE:GREGORIAN
METHOD:PUBLISH
X-WR-CALNAME:Gator Run Pta
X-ORIGINAL-URL:https://gatorrunpta.com
X-WR-CALDESC:Events for Gator Run Pta
REFRESH-INTERVAL;VALUE=DURATION:PT1H
X-Robots-Tag:noindex
X-PUBLISHED-TTL:PT1H
BEGIN:VTIMEZONE
TZID:America/New_York
BEGIN:DAYLIGHT
TZOFFSETFROM:-0500
TZOFFSETTO:-0400
TZNAME:EDT
DTSTART:20180311T070000
END:DAYLIGHT
BEGIN:STANDARD
TZOFFSETFROM:-0400
TZOFFSETTO:-0500
TZNAME:EST
DTSTART:20181104T060000
END:STANDARD
BEGIN:DAYLIGHT
TZOFFSETFROM:-0500
TZOFFSETTO:-0400
TZNAME:EDT
DTSTART:20190310T070000
END:DAYLIGHT
BEGIN:STANDARD
TZOFFSETFROM:-0400
TZOFFSETTO:-0500
TZNAME:EST
DTSTART:20191103T060000
END:STANDARD
BEGIN:DAYLIGHT
TZOFFSETFROM:-0500
TZOFFSETTO:-0400
TZNAME:EDT
DTSTART:20200308T070000
END:DAYLIGHT
BEGIN:STANDARD
TZOFFSETFROM:-0400
TZOFFSETTO:-0500
TZNAME:EST
DTSTART:20201101T060000
END:STANDARD
END:VTIMEZONE
BEGIN:VEVENT
DTSTART;TZID=America/New_York:20190813T081500
DTEND;TZID=America/New_York:20190813T150000
DTSTAMP:20260419T171851
CREATED:20190720T172411Z
LAST-MODIFIED:20190720T174222Z
UID:4496-1565684100-1565708400@gatorrunpta.com
SUMMARY:Sneak-a-Peek and Open House
DESCRIPTION:Sneak-a-Peak/Open House is an opportunity for you and your child to meet your teacher and see the classroom.  During the sneak-a-peek you and your child will have a chance to explore the classroom and meet your new teacher.  During the Open House portion your child will sit in the hallway with their new classmates (and adult supervision) while you have a chance to hear from your teacher.   Below please find the times for each grade: \nVPK\,Pre-k \n8:15– 8:25   Meet &Greet \n8:25 – 9:00   Open House \n1st Grade \n9:15– 9:25    Meet & Greet \n9:25– 10:00  Open House \n2nd Grade \n10:15 – 10:25   Meet & Greet \n10:25 – 11:00  Open House \n3rd Grade \n11:30 – 11:40   Meet & Greet \n11:40 – 12:15   Open House \n4th  Grade \n12:30 – 12:40   Meet & Greet \n12:40 – 1:15     Open House \n5th Grade \n1:30 – 1:40     Meet & Greet \n1:40 – 2:15    Open House \n2:20 Fifth Grade DC Meeting in the Media Center
URL:https://gatorrunpta.com/event/sneak-a-peek-and-open-house/
LOCATION:Gator Run Elementary School\, 1101 Glades Parkway\, Weston\, FL\, 33327\, United States
END:VEVENT
BEGIN:VEVENT
DTSTART;TZID=America/New_York:20190821T083000
DTEND;TZID=America/New_York:20190821T093000
DTSTAMP:20260419T171851
CREATED:20190720T174651Z
LAST-MODIFIED:20190720T175030Z
UID:4500-1566376200-1566379800@gatorrunpta.com
SUMMARY:First PTA General Meeting
DESCRIPTION:We hope you can join us for the first PTA meeting of the year.  At this meeting we cover the following: \n\nMessage from our Principal\nSafety message from Deputy Rachel\nDiscuss the many ways to get involved at Gator Run\nReview upcoming key dates and events
URL:https://gatorrunpta.com/event/first-pta-general-meeting/
LOCATION:Gator Run Elementary School Cafeteria\, FL\, United States
END:VEVENT
BEGIN:VEVENT
DTSTART;TZID=America/New_York:20190822T090000
DTEND;TZID=America/New_York:20190822T100000
DTSTAMP:20260419T171851
CREATED:20190720T182705Z
LAST-MODIFIED:20190720T183019Z
UID:4503-1566464400-1566468000@gatorrunpta.com
SUMMARY:Room Parent Meeting
DESCRIPTION:Please join us as we review all the important information for Room Parents.  We will give you a folder with key information on your roles and responsibilities as well as your teacher’s birthday. \nPlease keep in mind that the Room Parent is selected by the teacher.
URL:https://gatorrunpta.com/event/room-parent-meeting-2/
LOCATION:Gator Run Elementary School Cafeteria\, FL\, United States
END:VEVENT
BEGIN:VEVENT
DTSTART;TZID=America/New_York:20190823T090000
DTEND;TZID=America/New_York:20190823T100000
DTSTAMP:20260419T171851
CREATED:20190720T182931Z
LAST-MODIFIED:20190720T182931Z
UID:4504-1566550800-1566554400@gatorrunpta.com
SUMMARY:Meet the Masters Meeting
DESCRIPTION:This meeting is for all interested in participating in the Meet the Master Art Program.  We will review all the ways to get involved.  No art experienced needed! \n\nCoordinator:  Primary contact with teachers and MTM volunteers for your class\nAssist the Coordinator:  Help organize the schedule of artists and volunteers for the year\nGeneral MTM Volunteer:  Help plan and run the Meet the Masters activity in the classroom for selected months
URL:https://gatorrunpta.com/event/meet-the-masters-meeting-2/
LOCATION:FL\, United States
END:VEVENT
BEGIN:VEVENT
DTSTART;TZID=America/New_York:20190828T142000
DTEND;TZID=America/New_York:20190828T150000
DTSTAMP:20260419T171851
CREATED:20190820T144934Z
LAST-MODIFIED:20190820T144934Z
UID:6907-1567002000-1567004400@gatorrunpta.com
SUMMARY:School Advisory Council (SAC) meeting
DESCRIPTION:The School Advisory Council (SAC) is a school-based group intended to represent the school\, the community\, and those persons closest to the students that shares responsibility for supporting the school’s continuous improvement.
URL:https://gatorrunpta.com/event/school-advisory-council-sac-meeting/
LOCATION:Media Center\, FL\, United States
END:VEVENT
END:VCALENDAR