BEGIN:VCALENDAR
VERSION:2.0
PRODID:-//Gator Run Pta - ECPv6.15.15//NONSGML v1.0//EN
CALSCALE:GREGORIAN
METHOD:PUBLISH
X-WR-CALNAME:Gator Run Pta
X-ORIGINAL-URL:https://gatorrunpta.com
X-WR-CALDESC:Events for Gator Run Pta
REFRESH-INTERVAL;VALUE=DURATION:PT1H
X-Robots-Tag:noindex
X-PUBLISHED-TTL:PT1H
BEGIN:VTIMEZONE
TZID:America/New_York
BEGIN:DAYLIGHT
TZOFFSETFROM:-0500
TZOFFSETTO:-0400
TZNAME:EDT
DTSTART:20180311T070000
END:DAYLIGHT
BEGIN:STANDARD
TZOFFSETFROM:-0400
TZOFFSETTO:-0500
TZNAME:EST
DTSTART:20181104T060000
END:STANDARD
BEGIN:DAYLIGHT
TZOFFSETFROM:-0500
TZOFFSETTO:-0400
TZNAME:EDT
DTSTART:20190310T070000
END:DAYLIGHT
BEGIN:STANDARD
TZOFFSETFROM:-0400
TZOFFSETTO:-0500
TZNAME:EST
DTSTART:20191103T060000
END:STANDARD
BEGIN:DAYLIGHT
TZOFFSETFROM:-0500
TZOFFSETTO:-0400
TZNAME:EDT
DTSTART:20200308T070000
END:DAYLIGHT
BEGIN:STANDARD
TZOFFSETFROM:-0400
TZOFFSETTO:-0500
TZNAME:EST
DTSTART:20201101T060000
END:STANDARD
END:VTIMEZONE
BEGIN:VEVENT
DTSTART;TZID=America/New_York:20190307T080000
DTEND;TZID=America/New_York:20190313T133000
DTSTAMP:20260423T193120
CREATED:20180718T135830Z
LAST-MODIFIED:20190227T151724Z
UID:1127-1551945600-1552483800@gatorrunpta.com
SUMMARY:Spring Book Fair
DESCRIPTION:Your teacher will reach out with the specific day and time that your child’s class will be visiting the book fair.
URL:https://gatorrunpta.com/event/spring-book-fair/
LOCATION:Media Center\, FL\, United States
END:VEVENT
BEGIN:VEVENT
DTSTART;TZID=America/New_York:20190308T170000
DTEND;TZID=America/New_York:20190308T200000
DTSTAMP:20260423T193120
CREATED:20180718T135953Z
LAST-MODIFIED:20190227T151842Z
UID:1129-1552064400-1552075200@gatorrunpta.com
SUMMARY:Spring Book Fair Family Night
DESCRIPTION:Join us for family fun night of books\, DJ\, Pizza and more.  In order to give everyone a bit more room we are suggesting that grades Pre-k-2 attend 5:00pm – 6:30pm and grades 3-5 attend 6:30pm – 8:00pm.
URL:https://gatorrunpta.com/event/spring-book-fair-family-night/
LOCATION:Gator Run Elementary School Cafeteria\, FL\, United States
END:VEVENT
END:VCALENDAR