BEGIN:VCALENDAR
VERSION:2.0
PRODID:-//Gator Run Pta - ECPv6.15.15//NONSGML v1.0//EN
CALSCALE:GREGORIAN
METHOD:PUBLISH
X-WR-CALNAME:Gator Run Pta
X-ORIGINAL-URL:https://gatorrunpta.com
X-WR-CALDESC:Events for Gator Run Pta
REFRESH-INTERVAL;VALUE=DURATION:PT1H
X-Robots-Tag:noindex
X-PUBLISHED-TTL:PT1H
BEGIN:VTIMEZONE
TZID:America/New_York
BEGIN:DAYLIGHT
TZOFFSETFROM:-0500
TZOFFSETTO:-0400
TZNAME:EDT
DTSTART:20180311T070000
END:DAYLIGHT
BEGIN:STANDARD
TZOFFSETFROM:-0400
TZOFFSETTO:-0500
TZNAME:EST
DTSTART:20181104T060000
END:STANDARD
BEGIN:DAYLIGHT
TZOFFSETFROM:-0500
TZOFFSETTO:-0400
TZNAME:EDT
DTSTART:20190310T070000
END:DAYLIGHT
BEGIN:STANDARD
TZOFFSETFROM:-0400
TZOFFSETTO:-0500
TZNAME:EST
DTSTART:20191103T060000
END:STANDARD
BEGIN:DAYLIGHT
TZOFFSETFROM:-0500
TZOFFSETTO:-0400
TZNAME:EDT
DTSTART:20200308T070000
END:DAYLIGHT
BEGIN:STANDARD
TZOFFSETFROM:-0400
TZOFFSETTO:-0500
TZNAME:EST
DTSTART:20201101T060000
END:STANDARD
END:VTIMEZONE
BEGIN:VEVENT
DTSTART;TZID=America/New_York:20190222T173000
DTEND;TZID=America/New_York:20190222T193000
DTSTAMP:20260419T193049
CREATED:20180718T135542Z
LAST-MODIFIED:20180804T221512Z
UID:1125-1550856600-1550863800@gatorrunpta.com
SUMMARY:Multicultural Festival & GRE 20th Anniversary Celebration
DESCRIPTION:Join us for our 5th annual Multicultural Festival.  We will be celebrating 20 years of diversity at Gator Run!
URL:https://gatorrunpta.com/event/multicultural-festival/
LOCATION:Gator Run – Back Car Pool Loop\, FL\, United States
END:VEVENT
END:VCALENDAR