BEGIN:VCALENDAR
VERSION:2.0
PRODID:-//Gator Run Pta - ECPv6.15.15//NONSGML v1.0//EN
CALSCALE:GREGORIAN
METHOD:PUBLISH
X-WR-CALNAME:Gator Run Pta
X-ORIGINAL-URL:https://gatorrunpta.com
X-WR-CALDESC:Events for Gator Run Pta
REFRESH-INTERVAL;VALUE=DURATION:PT1H
X-Robots-Tag:noindex
X-PUBLISHED-TTL:PT1H
BEGIN:VTIMEZONE
TZID:America/New_York
BEGIN:DAYLIGHT
TZOFFSETFROM:-0500
TZOFFSETTO:-0400
TZNAME:EDT
DTSTART:20170312T070000
END:DAYLIGHT
BEGIN:STANDARD
TZOFFSETFROM:-0400
TZOFFSETTO:-0500
TZNAME:EST
DTSTART:20171105T060000
END:STANDARD
BEGIN:DAYLIGHT
TZOFFSETFROM:-0500
TZOFFSETTO:-0400
TZNAME:EDT
DTSTART:20180311T070000
END:DAYLIGHT
BEGIN:STANDARD
TZOFFSETFROM:-0400
TZOFFSETTO:-0500
TZNAME:EST
DTSTART:20181104T060000
END:STANDARD
BEGIN:DAYLIGHT
TZOFFSETFROM:-0500
TZOFFSETTO:-0400
TZNAME:EDT
DTSTART:20190310T070000
END:DAYLIGHT
BEGIN:STANDARD
TZOFFSETFROM:-0400
TZOFFSETTO:-0500
TZNAME:EST
DTSTART:20191103T060000
END:STANDARD
END:VTIMEZONE
BEGIN:VEVENT
DTSTART;TZID=America/New_York:20181101T080000
DTEND;TZID=America/New_York:20181101T140000
DTSTAMP:20260420T081053
CREATED:20180917T145304Z
LAST-MODIFIED:20180917T145304Z
UID:2622-1541059200-1541080800@gatorrunpta.com
SUMMARY:Reflections Entries Due Today
DESCRIPTION:Reflections entries can be turned in to your child’s teacher or the front office. \nPlease note:  Student entry form MUST be completed and attached to your entry.
URL:https://gatorrunpta.com/event/reflections-entries-due-today/
LOCATION:FL\, United States
END:VEVENT
BEGIN:VEVENT
DTSTART;TZID=America/New_York:20181128T183000
DTEND;TZID=America/New_York:20181128T193000
DTSTAMP:20260420T081053
CREATED:20180718T134948Z
LAST-MODIFIED:20180926T155315Z
UID:1118-1543429800-1543433400@gatorrunpta.com
SUMMARY:Evening PTA General Meeting
DESCRIPTION:We have added an evening PTA general meeting at the request of our members.  We hope you will joins us!  Stay tuned for an update on a guest speaker for the evening.
URL:https://gatorrunpta.com/event/evening-pta-general-meeting/
LOCATION:Cafeteria\, FL\, United States
END:VEVENT
BEGIN:VEVENT
DTSTART;TZID=America/New_York:20181128T183000
DTEND;TZID=America/New_York:20181128T193000
DTSTAMP:20260420T081053
CREATED:20180917T150032Z
LAST-MODIFIED:20180926T155955Z
UID:2624-1543429800-1543433400@gatorrunpta.com
SUMMARY:Reflections Showcase & Awards
DESCRIPTION:All Reflections participants will be recognized. We will announce the winners moving on to the Broward County level of the competition. \nPlease join us at PTA general Meeting following the recognition ceremony.
URL:https://gatorrunpta.com/event/reflections-showcase-awards/
LOCATION:FL\, United States
END:VEVENT
BEGIN:VEVENT
DTSTART;TZID=America/New_York:20181130T170000
DTEND;TZID=America/New_York:20181130T210000
DTSTAMP:20260420T081053
CREATED:20181029T172723Z
LAST-MODIFIED:20181029T172801Z
UID:2969-1543597200-1543611600@gatorrunpta.com
SUMMARY:Holiday Shopping Bazaar
DESCRIPTION:This is our first annual Holiday Shopping Bazaar.  We hope you can join  us to support the small businesses of our Gator Run families and those from our local community.
URL:https://gatorrunpta.com/event/holiday-shopping-bazaar/
LOCATION:Gator Run Elementary School Cafeteria\, FL\, United States
END:VEVENT
END:VCALENDAR