BEGIN:VCALENDAR
VERSION:2.0
PRODID:-//Gator Run Pta - ECPv6.15.15//NONSGML v1.0//EN
CALSCALE:GREGORIAN
METHOD:PUBLISH
X-ORIGINAL-URL:https://gatorrunpta.com
X-WR-CALDESC:Events for Gator Run Pta
REFRESH-INTERVAL;VALUE=DURATION:PT1H
X-Robots-Tag:noindex
X-PUBLISHED-TTL:PT1H
BEGIN:VTIMEZONE
TZID:America/New_York
BEGIN:DAYLIGHT
TZOFFSETFROM:-0500
TZOFFSETTO:-0400
TZNAME:EDT
DTSTART:20170312T070000
END:DAYLIGHT
BEGIN:STANDARD
TZOFFSETFROM:-0400
TZOFFSETTO:-0500
TZNAME:EST
DTSTART:20171105T060000
END:STANDARD
BEGIN:DAYLIGHT
TZOFFSETFROM:-0500
TZOFFSETTO:-0400
TZNAME:EDT
DTSTART:20180311T070000
END:DAYLIGHT
BEGIN:STANDARD
TZOFFSETFROM:-0400
TZOFFSETTO:-0500
TZNAME:EST
DTSTART:20181104T060000
END:STANDARD
BEGIN:DAYLIGHT
TZOFFSETFROM:-0500
TZOFFSETTO:-0400
TZNAME:EDT
DTSTART:20190310T070000
END:DAYLIGHT
BEGIN:STANDARD
TZOFFSETFROM:-0400
TZOFFSETTO:-0500
TZNAME:EST
DTSTART:20191103T060000
END:STANDARD
END:VTIMEZONE
BEGIN:VEVENT
DTSTART;TZID=America/New_York:20181012T080000
DTEND;TZID=America/New_York:20181012T130000
DTSTAMP:20260417T095807
CREATED:20180718T133316Z
LAST-MODIFIED:20181010T010455Z
UID:1111-1539331200-1539349200@gatorrunpta.com
SUMMARY:Boosterthon Fun Run
DESCRIPTION:Parents are welcome to Come cheer on the students as they run to raise funds for Gator Run. \nPlease note: \nFor the safety of our students\, all parents will enter through the back car pool entrance – do not go to the main office.  There will be a Police Officer at the gate and our assigned BSO will be present.  No bags will be allowed so please leave everything at home that day. Parents will cheer on the kids in the back parking lot and will not be permitted into any of the buildings. \n8:30     2nd Grade – 3rd Grade \n9:35     K – 1st Grade \n10:45   4th Grade  – 5th Grade (this is a fun color run) \n  \n 
URL:https://gatorrunpta.com/event/boosterthon-fun-run/
LOCATION:Gator Run – Back Car Pool Loop\, FL\, United States
END:VEVENT
BEGIN:VEVENT
DTSTART;TZID=America/New_York:20181016T090000
DTEND;TZID=America/New_York:20181016T100000
DTSTAMP:20260417T095807
CREATED:20180718T134212Z
LAST-MODIFIED:20180718T134212Z
UID:1114-1539680400-1539684000@gatorrunpta.com
SUMMARY:Multicultural Festival Meeting
DESCRIPTION:Please join us to hear about all the ways you can help out with our 5th annual Multicultural Festival.
URL:https://gatorrunpta.com/event/multicultural-festival-meeting/
LOCATION:Cafeteria\, FL\, United States
END:VEVENT
BEGIN:VEVENT
DTSTART;TZID=America/New_York:20181018T080000
DTEND;TZID=America/New_York:20181018T170000
DTSTAMP:20260417T095807
CREATED:20181011T040119Z
LAST-MODIFIED:20181011T040119Z
UID:2678-1539849600-1539882000@gatorrunpta.com
SUMMARY:Box Top Collection Day
DESCRIPTION:Mark your calendar and keep clipping those box tops!  Please turn your box tops in to your teacher for our first collection of the year.
URL:https://gatorrunpta.com/event/box-top-collection-day/
LOCATION:FL\, United States
END:VEVENT
BEGIN:VEVENT
DTSTART;TZID=America/New_York:20181026T180000
DTEND;TZID=America/New_York:20181026T200000
DTSTAMP:20260417T095807
CREATED:20180718T134808Z
LAST-MODIFIED:20180816T174623Z
UID:1116-1540576800-1540584000@gatorrunpta.com
SUMMARY:Fall Fun Night
DESCRIPTION:Come in your costume for a fun family night!  We’ll have a DJ and lots of fun!
URL:https://gatorrunpta.com/event/batty-bingo/
LOCATION:Cafeteria\, FL\, United States
END:VEVENT
END:VCALENDAR