BEGIN:VCALENDAR
VERSION:2.0
PRODID:-//Gator Run Pta - ECPv6.15.15//NONSGML v1.0//EN
CALSCALE:GREGORIAN
METHOD:PUBLISH
X-WR-CALNAME:Gator Run Pta
X-ORIGINAL-URL:https://gatorrunpta.com
X-WR-CALDESC:Events for Gator Run Pta
REFRESH-INTERVAL;VALUE=DURATION:PT1H
X-Robots-Tag:noindex
X-PUBLISHED-TTL:PT1H
BEGIN:VTIMEZONE
TZID:America/New_York
BEGIN:DAYLIGHT
TZOFFSETFROM:-0500
TZOFFSETTO:-0400
TZNAME:EDT
DTSTART:20220313T070000
END:DAYLIGHT
BEGIN:STANDARD
TZOFFSETFROM:-0400
TZOFFSETTO:-0500
TZNAME:EST
DTSTART:20221106T060000
END:STANDARD
BEGIN:DAYLIGHT
TZOFFSETFROM:-0500
TZOFFSETTO:-0400
TZNAME:EDT
DTSTART:20230312T070000
END:DAYLIGHT
BEGIN:STANDARD
TZOFFSETFROM:-0400
TZOFFSETTO:-0500
TZNAME:EST
DTSTART:20231105T060000
END:STANDARD
BEGIN:DAYLIGHT
TZOFFSETFROM:-0500
TZOFFSETTO:-0400
TZNAME:EDT
DTSTART:20240310T070000
END:DAYLIGHT
BEGIN:STANDARD
TZOFFSETFROM:-0400
TZOFFSETTO:-0500
TZNAME:EST
DTSTART:20241103T060000
END:STANDARD
END:VTIMEZONE
BEGIN:VEVENT
DTSTART;TZID=America/New_York:20230921T170000
DTEND;TZID=America/New_York:20230921T200000
DTSTAMP:20260419T163315
CREATED:20230720T114801Z
LAST-MODIFIED:20230720T114801Z
UID:23518-1695315600-1695326400@gatorrunpta.com
SUMMARY:BOOK FAIR FAMILY SHOPPING NIGHT
DESCRIPTION:GRADES K-1(5-6pm)\, GRADES 2-3 (6-7pm)\, GRADES 4-5 (7-8PM)
URL:https://gatorrunpta.com/event/book-fair-family-shopping-night/
END:VEVENT
BEGIN:VEVENT
DTSTART;TZID=America/New_York:20230921T083000
DTEND;TZID=America/New_York:20230921T090000
DTSTAMP:20260419T163315
CREATED:20230912T135230Z
LAST-MODIFIED:20230912T135230Z
UID:23706-1695285000-1695286800@gatorrunpta.com
SUMMARY:BYLAWS UPDATE GENERAL PTA MEETING
DESCRIPTION:Cafeteria
URL:https://gatorrunpta.com/event/bylaws-update-general-pta-meeting/
END:VEVENT
BEGIN:VEVENT
DTSTART;VALUE=DATE:20230921
DTEND;VALUE=DATE:20230930
DTSTAMP:20260419T163315
CREATED:20230720T114842Z
LAST-MODIFIED:20230720T114842Z
UID:23520-1695254400-1696031999@gatorrunpta.com
SUMMARY:FALL BOOK FAIR
DESCRIPTION:
URL:https://gatorrunpta.com/event/fall-book-fair-4/
END:VEVENT
BEGIN:VEVENT
DTSTART;TZID=America/New_York:20230914T083000
DTEND;TZID=America/New_York:20230914T091500
DTSTAMP:20260419T163315
CREATED:20230720T114551Z
LAST-MODIFIED:20230720T114551Z
UID:23516-1694680200-1694682900@gatorrunpta.com
SUMMARY:MEET THE MASTERS MEETING
DESCRIPTION:CAFETERIA
URL:https://gatorrunpta.com/event/meet-the-masters-meeting-5/
END:VEVENT
BEGIN:VEVENT
DTSTART;TZID=America/New_York:20230912T083000
DTEND;TZID=America/New_York:20230912T091500
DTSTAMP:20260419T163315
CREATED:20230720T114445Z
LAST-MODIFIED:20230720T114445Z
UID:23514-1694507400-1694510100@gatorrunpta.com
SUMMARY:ROOM PARENT MEETING
DESCRIPTION:CAFETERIA
URL:https://gatorrunpta.com/event/room-parent-meeting-10/
END:VEVENT
BEGIN:VEVENT
DTSTART;VALUE=DATE:20230904
DTEND;VALUE=DATE:20230905
DTSTAMP:20260419T163315
CREATED:20230720T111500Z
LAST-MODIFIED:20230720T111539Z
UID:23466-1693785600-1693871999@gatorrunpta.com
SUMMARY:SCHOOL CLOSED
DESCRIPTION:
URL:https://gatorrunpta.com/event/school-closed-10/
END:VEVENT
BEGIN:VEVENT
DTSTART;TZID=America/New_York:20230830T083000
DTEND;TZID=America/New_York:20230830T091500
DTSTAMP:20260419T163315
CREATED:20230720T114310Z
LAST-MODIFIED:20230720T114310Z
UID:23512-1693384200-1693386900@gatorrunpta.com
SUMMARY:PTA GENERAL MEETING
DESCRIPTION:CAFETERIA
URL:https://gatorrunpta.com/event/pta-general-meeting-9/
END:VEVENT
BEGIN:VEVENT
DTSTART;TZID=America/New_York:20230828T143000
DTEND;TZID=America/New_York:20230828T150000
DTSTAMP:20260419T163315
CREATED:20230821T201546Z
LAST-MODIFIED:20230821T201719Z
UID:23656-1693233000-1693234800@gatorrunpta.com
SUMMARY:SAC MEETING
DESCRIPTION:MEDIA
URL:https://gatorrunpta.com/event/sac-meeting-25/
END:VEVENT
BEGIN:VEVENT
DTSTART;VALUE=DATE:20230821
DTEND;VALUE=DATE:20230822
DTSTAMP:20260419T163315
CREATED:20230720T111326Z
LAST-MODIFIED:20230720T111326Z
UID:23464-1692576000-1692662399@gatorrunpta.com
SUMMARY:FIRST DAY OF SCHOOL
DESCRIPTION:
URL:https://gatorrunpta.com/event/first-day-of-school-4/
END:VEVENT
BEGIN:VEVENT
DTSTART;VALUE=DATE:20230818
DTEND;VALUE=DATE:20230819
DTSTAMP:20260419T163315
CREATED:20230720T114207Z
LAST-MODIFIED:20230720T114207Z
UID:23510-1692316800-1692403199@gatorrunpta.com
SUMMARY:MEET AND GREET
DESCRIPTION:
URL:https://gatorrunpta.com/event/meet-and-greet/
END:VEVENT
BEGIN:VEVENT
DTSTART;VALUE=DATE:20230609
DTEND;VALUE=DATE:20230610
DTSTAMP:20260419T163315
CREATED:20220715T163906Z
LAST-MODIFIED:20220715T163906Z
UID:22998-1686268800-1686355199@gatorrunpta.com
SUMMARY:NO SCHOOL FOR STUDENTS (EMPLOYEE PLANNING)
DESCRIPTION:
URL:https://gatorrunpta.com/event/no-school-for-students-employee-planning-5/
END:VEVENT
BEGIN:VEVENT
DTSTART;VALUE=DATE:20230608
DTEND;VALUE=DATE:20230609
DTSTAMP:20260419T163315
CREATED:20220715T163805Z
LAST-MODIFIED:20220715T163805Z
UID:22996-1686182400-1686268799@gatorrunpta.com
SUMMARY:LAST DAY OF SCHOOL
DESCRIPTION:
URL:https://gatorrunpta.com/event/last-day-of-school/
END:VEVENT
BEGIN:VEVENT
DTSTART;VALUE=DATE:20230529
DTEND;VALUE=DATE:20230530
DTSTAMP:20260419T163315
CREATED:20220715T163535Z
LAST-MODIFIED:20220715T163535Z
UID:22992-1685318400-1685404799@gatorrunpta.com
SUMMARY:SCHOOL AND ADMINISTRATIVE OFFICES CLOSED
DESCRIPTION:
URL:https://gatorrunpta.com/event/school-and-administrative-offices-closed-18/
END:VEVENT
BEGIN:VEVENT
DTSTART;TZID=America/New_York:20230525T083000
DTEND;TZID=America/New_York:20230525T093000
DTSTAMP:20260419T163315
CREATED:20220715T171945Z
LAST-MODIFIED:20230510T104709Z
UID:23028-1685003400-1685007000@gatorrunpta.com
SUMMARY:PTA GENERAL MEETING AND ELECTIONS
DESCRIPTION:Cafeteria
URL:https://gatorrunpta.com/event/pta-general-meeting-and-elections-3/
END:VEVENT
BEGIN:VEVENT
DTSTART;TZID=America/New_York:20230510T143000
DTEND;TZID=America/New_York:20230510T150000
DTSTAMP:20260419T163315
CREATED:20220828T231847Z
LAST-MODIFIED:20220828T231847Z
UID:23109-1683729000-1683730800@gatorrunpta.com
SUMMARY:SAC MEETING
DESCRIPTION:Media
URL:https://gatorrunpta.com/event/sac-meeting-23/
END:VEVENT
BEGIN:VEVENT
DTSTART;VALUE=DATE:20230501
DTEND;VALUE=DATE:20230506
DTSTAMP:20260419T163315
CREATED:20220715T171813Z
LAST-MODIFIED:20220715T171813Z
UID:23026-1682899200-1683331199@gatorrunpta.com
SUMMARY:STAFF APPRECIATION WEEK
DESCRIPTION:
URL:https://gatorrunpta.com/event/staff-appreciation-week-4/
END:VEVENT
BEGIN:VEVENT
DTSTART;TZID=America/New_York:20230424T143000
DTEND;TZID=America/New_York:20230424T150000
DTSTAMP:20260419T163315
CREATED:20220828T231801Z
LAST-MODIFIED:20221004T174646Z
UID:23107-1682346600-1682348400@gatorrunpta.com
SUMMARY:SAC MEETING
DESCRIPTION:Media
URL:https://gatorrunpta.com/event/sac-meeting-22/
END:VEVENT
BEGIN:VEVENT
DTSTART;VALUE=DATE:20230421
DTEND;VALUE=DATE:20230422
DTSTAMP:20260419T163315
CREATED:20220715T163424Z
LAST-MODIFIED:20220715T163424Z
UID:22990-1682035200-1682121599@gatorrunpta.com
SUMMARY:SCHOOL CLOSED
DESCRIPTION:
URL:https://gatorrunpta.com/event/school-closed-9/
END:VEVENT
BEGIN:VEVENT
DTSTART;TZID=America/New_York:20230418T083000
DTEND;TZID=America/New_York:20230418T093000
DTSTAMP:20260419T163315
CREATED:20230416T194715Z
LAST-MODIFIED:20230416T194715Z
UID:23384-1681806600-1681810200@gatorrunpta.com
SUMMARY:5th GRADE ACTIVITIES PARENT VOLUNTEER MEETING
DESCRIPTION:Cafeteria
URL:https://gatorrunpta.com/event/5th-grade-activities-parent-volunteer-meeting/
END:VEVENT
BEGIN:VEVENT
DTSTART;VALUE=DATE:20230407
DTEND;VALUE=DATE:20230408
DTSTAMP:20260419T163315
CREATED:20220715T163229Z
LAST-MODIFIED:20220715T163229Z
UID:22986-1680825600-1680911999@gatorrunpta.com
SUMMARY:SCHOOL AND ADMINISTRATIVE OFFICES CLOSED
DESCRIPTION:
URL:https://gatorrunpta.com/event/school-and-administrative-offices-closed-17/
END:VEVENT
BEGIN:VEVENT
DTSTART;TZID=America/New_York:20230405T083000
DTEND;TZID=America/New_York:20230405T093000
DTSTAMP:20260419T163315
CREATED:20230223T182312Z
LAST-MODIFIED:20230223T182312Z
UID:23368-1680683400-1680687000@gatorrunpta.com
SUMMARY:ROOM PARENT MEETING
DESCRIPTION:Cafeteria
URL:https://gatorrunpta.com/event/room-parent-meeting-9/
END:VEVENT
BEGIN:VEVENT
DTSTART;TZID=America/New_York:20230327T143000
DTEND;TZID=America/New_York:20230327T150000
DTSTAMP:20260419T163315
CREATED:20220828T231721Z
LAST-MODIFIED:20221004T174722Z
UID:23105-1679927400-1679929200@gatorrunpta.com
SUMMARY:SAC MEETING
DESCRIPTION:Media
URL:https://gatorrunpta.com/event/sac-meeting-21/
END:VEVENT
BEGIN:VEVENT
DTSTART;VALUE=DATE:20230320
DTEND;VALUE=DATE:20230325
DTSTAMP:20260419T163315
CREATED:20220715T163116Z
LAST-MODIFIED:20220715T163116Z
UID:22984-1679270400-1679702399@gatorrunpta.com
SUMMARY:SCHOOL CLOSED
DESCRIPTION:
URL:https://gatorrunpta.com/event/school-closed-8/
END:VEVENT
BEGIN:VEVENT
DTSTART;VALUE=DATE:20230317
DTEND;VALUE=DATE:20230318
DTSTAMP:20260419T163315
CREATED:20220715T163002Z
LAST-MODIFIED:20220715T163002Z
UID:22982-1679011200-1679097599@gatorrunpta.com
SUMMARY:NO SCHOOL FOR STUDENTS (EMPLOYEE PLANNING)
DESCRIPTION:
URL:https://gatorrunpta.com/event/no-school-for-students-employee-planning-4/
END:VEVENT
BEGIN:VEVENT
DTSTART;VALUE=DATE:20230316
DTEND;VALUE=DATE:20230317
DTSTAMP:20260419T163315
CREATED:20220715T162833Z
LAST-MODIFIED:20220715T162833Z
UID:22980-1678924800-1679011199@gatorrunpta.com
SUMMARY:EARLY RELEASE DAY
DESCRIPTION:NOON RELEASE
URL:https://gatorrunpta.com/event/early-release-day-15/
END:VEVENT
BEGIN:VEVENT
DTSTART;TZID=America/New_York:20230227T143000
DTEND;TZID=America/New_York:20230227T150000
DTSTAMP:20260419T163315
CREATED:20220828T231640Z
LAST-MODIFIED:20221004T174747Z
UID:23103-1677508200-1677510000@gatorrunpta.com
SUMMARY:SAC MEETING
DESCRIPTION:Media
URL:https://gatorrunpta.com/event/sac-meeting-20/
END:VEVENT
BEGIN:VEVENT
DTSTART;TZID=America/New_York:20230224T170000
DTEND;TZID=America/New_York:20230224T200000
DTSTAMP:20260419T163315
CREATED:20220715T171706Z
LAST-MODIFIED:20230213T181915Z
UID:23024-1677258000-1677268800@gatorrunpta.com
SUMMARY:MULTICULTURAL FESTIVAL
DESCRIPTION:
URL:https://gatorrunpta.com/event/multicultural-festival-3/
END:VEVENT
BEGIN:VEVENT
DTSTART;VALUE=DATE:20230220
DTEND;VALUE=DATE:20230221
DTSTAMP:20260419T163315
CREATED:20220715T162725Z
LAST-MODIFIED:20220715T162725Z
UID:22978-1676851200-1676937599@gatorrunpta.com
SUMMARY:SCHOOL AND ADMINISTRATIVE OFFICES CLOSED
DESCRIPTION:
URL:https://gatorrunpta.com/event/school-and-administrative-offices-closed-16/
END:VEVENT
BEGIN:VEVENT
DTSTART;VALUE=DATE:20230214
DTEND;VALUE=DATE:20230215
DTSTAMP:20260419T163315
CREATED:20220715T162620Z
LAST-MODIFIED:20220715T162620Z
UID:22976-1676332800-1676419199@gatorrunpta.com
SUMMARY:EARLY RELEASE DAY
DESCRIPTION:NOON RELEASE
URL:https://gatorrunpta.com/event/early-release-day-14/
END:VEVENT
BEGIN:VEVENT
DTSTART;TZID=America/New_York:20230202T083000
DTEND;TZID=America/New_York:20230202T093000
DTSTAMP:20260419T163315
CREATED:20230122T171012Z
LAST-MODIFIED:20230122T171012Z
UID:23310-1675326600-1675330200@gatorrunpta.com
SUMMARY:5TH GRADE ACTIVITIES VOLUNTEER MEETING
DESCRIPTION:Cafeteria
URL:https://gatorrunpta.com/event/5th-grade-activities-volunteer-meeting-2/
END:VEVENT
END:VCALENDAR