BEGIN:VCALENDAR
VERSION:2.0
PRODID:-//Gator Run Pta - ECPv6.15.15//NONSGML v1.0//EN
CALSCALE:GREGORIAN
METHOD:PUBLISH
X-ORIGINAL-URL:https://gatorrunpta.com
X-WR-CALDESC:Events for Gator Run Pta
REFRESH-INTERVAL;VALUE=DURATION:PT1H
X-Robots-Tag:noindex
X-PUBLISHED-TTL:PT1H
BEGIN:VTIMEZONE
TZID:America/New_York
BEGIN:DAYLIGHT
TZOFFSETFROM:-0500
TZOFFSETTO:-0400
TZNAME:EDT
DTSTART:20230312T070000
END:DAYLIGHT
BEGIN:STANDARD
TZOFFSETFROM:-0400
TZOFFSETTO:-0500
TZNAME:EST
DTSTART:20231105T060000
END:STANDARD
BEGIN:DAYLIGHT
TZOFFSETFROM:-0500
TZOFFSETTO:-0400
TZNAME:EDT
DTSTART:20240310T070000
END:DAYLIGHT
BEGIN:STANDARD
TZOFFSETFROM:-0400
TZOFFSETTO:-0500
TZNAME:EST
DTSTART:20241103T060000
END:STANDARD
BEGIN:DAYLIGHT
TZOFFSETFROM:-0500
TZOFFSETTO:-0400
TZNAME:EDT
DTSTART:20250309T070000
END:DAYLIGHT
BEGIN:STANDARD
TZOFFSETFROM:-0400
TZOFFSETTO:-0500
TZNAME:EST
DTSTART:20251102T060000
END:STANDARD
END:VTIMEZONE
BEGIN:VEVENT
DTSTART;VALUE=DATE:20240610
DTEND;VALUE=DATE:20240611
DTSTAMP:20260419T082745
CREATED:20230720T113945Z
LAST-MODIFIED:20230720T113945Z
UID:23504-1717977600-1718063999@gatorrunpta.com
SUMMARY:EARLY RELEASE DAY
DESCRIPTION:EARLY RELEASE AT NOON
URL:https://gatorrunpta.com/event/early-release-day-19/
END:VEVENT
BEGIN:VEVENT
DTSTART;VALUE=DATE:20240610
DTEND;VALUE=DATE:20240611
DTSTAMP:20260419T082745
CREATED:20230720T114011Z
LAST-MODIFIED:20230720T114011Z
UID:23506-1717977600-1718063999@gatorrunpta.com
SUMMARY:LAST DAY OF SCHOOL
DESCRIPTION:
URL:https://gatorrunpta.com/event/last-day-of-school-2/
END:VEVENT
BEGIN:VEVENT
DTSTART;VALUE=DATE:20240611
DTEND;VALUE=DATE:20240612
DTSTAMP:20260419T082745
CREATED:20230720T114050Z
LAST-MODIFIED:20230720T114050Z
UID:23508-1718064000-1718150399@gatorrunpta.com
SUMMARY:NO SCHOOL FOR STUDENTS - EMPLOYEE PLANNING
DESCRIPTION:
URL:https://gatorrunpta.com/event/no-school-for-students-employee-planning-10/
END:VEVENT
END:VCALENDAR