BEGIN:VCALENDAR
VERSION:2.0
PRODID:-//Gator Run Pta - ECPv6.15.15//NONSGML v1.0//EN
CALSCALE:GREGORIAN
METHOD:PUBLISH
X-ORIGINAL-URL:https://gatorrunpta.com
X-WR-CALDESC:Events for Gator Run Pta
REFRESH-INTERVAL;VALUE=DURATION:PT1H
X-Robots-Tag:noindex
X-PUBLISHED-TTL:PT1H
BEGIN:VTIMEZONE
TZID:America/New_York
BEGIN:DAYLIGHT
TZOFFSETFROM:-0500
TZOFFSETTO:-0400
TZNAME:EDT
DTSTART:20200308T070000
END:DAYLIGHT
BEGIN:STANDARD
TZOFFSETFROM:-0400
TZOFFSETTO:-0500
TZNAME:EST
DTSTART:20201101T060000
END:STANDARD
BEGIN:DAYLIGHT
TZOFFSETFROM:-0500
TZOFFSETTO:-0400
TZNAME:EDT
DTSTART:20210314T070000
END:DAYLIGHT
BEGIN:STANDARD
TZOFFSETFROM:-0400
TZOFFSETTO:-0500
TZNAME:EST
DTSTART:20211107T060000
END:STANDARD
BEGIN:DAYLIGHT
TZOFFSETFROM:-0500
TZOFFSETTO:-0400
TZNAME:EDT
DTSTART:20220313T070000
END:DAYLIGHT
BEGIN:STANDARD
TZOFFSETFROM:-0400
TZOFFSETTO:-0500
TZNAME:EST
DTSTART:20221106T060000
END:STANDARD
END:VTIMEZONE
BEGIN:VEVENT
DTSTART;VALUE=DATE:20210419
DTEND;VALUE=DATE:20210503
DTSTAMP:20260416T102938
CREATED:20210127T182445Z
LAST-MODIFIED:20210406T234147Z
UID:21951-1618790400-1619999999@gatorrunpta.com
SUMMARY:SPRING BOOK FAIR
DESCRIPTION:
URL:https://gatorrunpta.com/event/spring-book-fair-2/
END:VEVENT
BEGIN:VEVENT
DTSTART;TZID=America/New_York:20210423T150000
DTEND;TZID=America/New_York:20210423T153000
DTSTAMP:20260416T102938
CREATED:20210414T010023Z
LAST-MODIFIED:20210414T010023Z
UID:22319-1619190000-1619191800@gatorrunpta.com
SUMMARY:PRINCIPALS HONOR ROLL DRIVE THROUGH AND REFLECTIONS AWARDS
DESCRIPTION:
URL:https://gatorrunpta.com/event/principals-honor-roll-drive-through-and-reflections-awards/
END:VEVENT
END:VCALENDAR