BEGIN:VCALENDAR
VERSION:2.0
PRODID:-//Gator Run Pta - ECPv6.15.15//NONSGML v1.0//EN
CALSCALE:GREGORIAN
METHOD:PUBLISH
X-ORIGINAL-URL:https://gatorrunpta.com
X-WR-CALDESC:Events for Gator Run Pta
REFRESH-INTERVAL;VALUE=DURATION:PT1H
X-Robots-Tag:noindex
X-PUBLISHED-TTL:PT1H
BEGIN:VTIMEZONE
TZID:America/New_York
BEGIN:DAYLIGHT
TZOFFSETFROM:-0500
TZOFFSETTO:-0400
TZNAME:EDT
DTSTART:20190310T070000
END:DAYLIGHT
BEGIN:STANDARD
TZOFFSETFROM:-0400
TZOFFSETTO:-0500
TZNAME:EST
DTSTART:20191103T060000
END:STANDARD
BEGIN:DAYLIGHT
TZOFFSETFROM:-0500
TZOFFSETTO:-0400
TZNAME:EDT
DTSTART:20200308T070000
END:DAYLIGHT
BEGIN:STANDARD
TZOFFSETFROM:-0400
TZOFFSETTO:-0500
TZNAME:EST
DTSTART:20201101T060000
END:STANDARD
BEGIN:DAYLIGHT
TZOFFSETFROM:-0500
TZOFFSETTO:-0400
TZNAME:EDT
DTSTART:20210314T070000
END:DAYLIGHT
BEGIN:STANDARD
TZOFFSETFROM:-0400
TZOFFSETTO:-0500
TZNAME:EST
DTSTART:20211107T060000
END:STANDARD
END:VTIMEZONE
BEGIN:VEVENT
DTSTART;TZID=America/New_York:20200304T173000
DTEND;TZID=America/New_York:20200304T203000
DTSTAMP:20260423T013017
CREATED:20190820T155101Z
LAST-MODIFIED:20200304T181631Z
UID:6947-1583343000-1583353800@gatorrunpta.com
SUMMARY:Spring Book Fair Family Night
DESCRIPTION:We hope you can join us for a fun night of shopping for books\, dancing with the DJ\, Pizza and more. \nIn order to make the experience enjoyable for all we are suggesting if at all possible\, families attend at the following times to help manage the parking and crowds: \n\n5:30 – 7:00    Pre-k – 2nd Grade\n7:00 – 8:30    3rd Grade – 5th Grade
URL:https://gatorrunpta.com/event/spring-book-fair-family-night-2/
LOCATION:Gator Run Elementary School Cafeteria\, FL\, United States
END:VEVENT
END:VCALENDAR