BEGIN:VCALENDAR
VERSION:2.0
PRODID:-//Gator Run Pta - ECPv6.15.15//NONSGML v1.0//EN
CALSCALE:GREGORIAN
METHOD:PUBLISH
X-ORIGINAL-URL:https://gatorrunpta.com
X-WR-CALDESC:Events for Gator Run Pta
REFRESH-INTERVAL;VALUE=DURATION:PT1H
X-Robots-Tag:noindex
X-PUBLISHED-TTL:PT1H
BEGIN:VTIMEZONE
TZID:America/New_York
BEGIN:DAYLIGHT
TZOFFSETFROM:-0500
TZOFFSETTO:-0400
TZNAME:EDT
DTSTART:20190310T070000
END:DAYLIGHT
BEGIN:STANDARD
TZOFFSETFROM:-0400
TZOFFSETTO:-0500
TZNAME:EST
DTSTART:20191103T060000
END:STANDARD
BEGIN:DAYLIGHT
TZOFFSETFROM:-0500
TZOFFSETTO:-0400
TZNAME:EDT
DTSTART:20200308T070000
END:DAYLIGHT
BEGIN:STANDARD
TZOFFSETFROM:-0400
TZOFFSETTO:-0500
TZNAME:EST
DTSTART:20201101T060000
END:STANDARD
BEGIN:DAYLIGHT
TZOFFSETFROM:-0500
TZOFFSETTO:-0400
TZNAME:EDT
DTSTART:20210314T070000
END:DAYLIGHT
BEGIN:STANDARD
TZOFFSETFROM:-0400
TZOFFSETTO:-0500
TZNAME:EST
DTSTART:20211107T060000
END:STANDARD
END:VTIMEZONE
BEGIN:VEVENT
DTSTART;VALUE=DATE:20200127
DTEND;VALUE=DATE:20200201
DTSTAMP:20260419T121238
CREATED:20190820T155500Z
LAST-MODIFIED:20190820T155500Z
UID:6949-1580083200-1580515199@gatorrunpta.com
SUMMARY:Spirit Week
DESCRIPTION:Spirit Week is our spring fundraiser with fun dress-up days for the kids and an exciting wrap up event.
URL:https://gatorrunpta.com/event/spirit-week/
LOCATION:FL\, United States
END:VEVENT
BEGIN:VEVENT
DTSTART;TZID=America/New_York:20200128T090000
DTEND;TZID=America/New_York:20200128T100000
DTSTAMP:20260419T121238
CREATED:20200115T004556Z
LAST-MODIFIED:20200115T004556Z
UID:15364-1580202000-1580205600@gatorrunpta.com
SUMMARY:5th Grade Activities Kick Off Meeting
DESCRIPTION:We hope you can join us Tuesday 1/28 at 9:00 AM in the cafeteria to kick off our 5th grade activities.  You’ll learn all about the different ways to get involved at this meeting.  Hope to see you there!
URL:https://gatorrunpta.com/event/5th-grade-activities-kick-off-meeting/
LOCATION:Cafeteria\, FL\, United States
END:VEVENT
END:VCALENDAR