BEGIN:VCALENDAR
VERSION:2.0
PRODID:-//Gator Run Pta - ECPv6.15.15//NONSGML v1.0//EN
CALSCALE:GREGORIAN
METHOD:PUBLISH
X-WR-CALNAME:Gator Run Pta
X-ORIGINAL-URL:https://gatorrunpta.com
X-WR-CALDESC:Events for Gator Run Pta
REFRESH-INTERVAL;VALUE=DURATION:PT1H
X-Robots-Tag:noindex
X-PUBLISHED-TTL:PT1H
BEGIN:VTIMEZONE
TZID:America/New_York
BEGIN:DAYLIGHT
TZOFFSETFROM:-0500
TZOFFSETTO:-0400
TZNAME:EDT
DTSTART:20180311T070000
END:DAYLIGHT
BEGIN:STANDARD
TZOFFSETFROM:-0400
TZOFFSETTO:-0500
TZNAME:EST
DTSTART:20181104T060000
END:STANDARD
BEGIN:DAYLIGHT
TZOFFSETFROM:-0500
TZOFFSETTO:-0400
TZNAME:EDT
DTSTART:20190310T070000
END:DAYLIGHT
BEGIN:STANDARD
TZOFFSETFROM:-0400
TZOFFSETTO:-0500
TZNAME:EST
DTSTART:20191103T060000
END:STANDARD
BEGIN:DAYLIGHT
TZOFFSETFROM:-0500
TZOFFSETTO:-0400
TZNAME:EDT
DTSTART:20200308T070000
END:DAYLIGHT
BEGIN:STANDARD
TZOFFSETFROM:-0400
TZOFFSETTO:-0500
TZNAME:EST
DTSTART:20201101T060000
END:STANDARD
END:VTIMEZONE
BEGIN:VEVENT
DTSTART;TZID=America/New_York:20191025T180000
DTEND;TZID=America/New_York:20191025T200000
DTSTAMP:20260423T102513
CREATED:20190725T184952Z
LAST-MODIFIED:20190725T185215Z
UID:4529-1572026400-1572033600@gatorrunpta.com
SUMMARY:Fall Family Fun Night
DESCRIPTION:Dress up in your favorite costume and join us for DJ\, dancing\, pizza\, games\, and prizes. Stay tuned to pre-purchase tickets and pizza.
URL:https://gatorrunpta.com/event/fall-family-fun-night/
LOCATION:FL\, United States
END:VEVENT
END:VCALENDAR